BEGIN:VCALENDAR
VERSION:2.0
PRODID:-//Single Steps Strategies - ECPv6.5.1.4//NONSGML v1.0//EN
CALSCALE:GREGORIAN
METHOD:PUBLISH
X-ORIGINAL-URL:https://www.singlestepsstrategies.com
X-WR-CALDESC:Events for Single Steps Strategies
REFRESH-INTERVAL;VALUE=DURATION:PT1H
X-Robots-Tag:noindex
X-PUBLISHED-TTL:PT1H
BEGIN:VTIMEZONE
TZID:America/New_York
BEGIN:DAYLIGHT
TZOFFSETFROM:-0500
TZOFFSETTO:-0400
TZNAME:EDT
DTSTART:20200308T070000
END:DAYLIGHT
BEGIN:STANDARD
TZOFFSETFROM:-0400
TZOFFSETTO:-0500
TZNAME:EST
DTSTART:20201101T060000
END:STANDARD
END:VTIMEZONE
BEGIN:VEVENT
DTSTART;TZID=America/New_York:20201013T113000
DTEND;TZID=America/New_York:20201013T120000
DTSTAMP:20260420T020857
CREATED:20201013T134414Z
LAST-MODIFIED:20201013T134510Z
UID:3173-1602588600-1602590400@www.singlestepsstrategies.com
SUMMARY:Dress for Success
DESCRIPTION:Dress For Success Pittsburgh \nIntroducing the Virtual Connections Resource Center \nTuesday\, October 13 \n11:30am-12:00pm \nJoin the meeting via zoom: \nhttps://us02web.zoom.us/meeting/register/tZElce6prD4tGdDijEFvHLuYZMuqYYhUUdy6 \n 
URL:https://www.singlestepsstrategies.com/event/dress-for-success-3/
LOCATION:Zoom Online Meeting
END:VEVENT
END:VCALENDAR